BEGIN:VCALENDAR
VERSION:2.0
PRODID:-//Blue Ridge National Heritage Area - ECPv6.15.17.1//NONSGML v1.0//EN
CALSCALE:GREGORIAN
METHOD:PUBLISH
X-ORIGINAL-URL:https://www.blueridgeheritage.com
X-WR-CALDESC:Events for Blue Ridge National Heritage Area
REFRESH-INTERVAL;VALUE=DURATION:PT1H
X-Robots-Tag:noindex
X-PUBLISHED-TTL:PT1H
BEGIN:VTIMEZONE
TZID:America/New_York
BEGIN:DAYLIGHT
TZOFFSETFROM:-0500
TZOFFSETTO:-0400
TZNAME:EDT
DTSTART:20240310T070000
END:DAYLIGHT
BEGIN:STANDARD
TZOFFSETFROM:-0400
TZOFFSETTO:-0500
TZNAME:EST
DTSTART:20241103T060000
END:STANDARD
BEGIN:DAYLIGHT
TZOFFSETFROM:-0500
TZOFFSETTO:-0400
TZNAME:EDT
DTSTART:20250309T070000
END:DAYLIGHT
BEGIN:STANDARD
TZOFFSETFROM:-0400
TZOFFSETTO:-0500
TZNAME:EST
DTSTART:20251102T060000
END:STANDARD
BEGIN:DAYLIGHT
TZOFFSETFROM:-0500
TZOFFSETTO:-0400
TZNAME:EDT
DTSTART:20260308T070000
END:DAYLIGHT
BEGIN:STANDARD
TZOFFSETFROM:-0400
TZOFFSETTO:-0500
TZNAME:EST
DTSTART:20261101T060000
END:STANDARD
END:VTIMEZONE
BEGIN:VEVENT
DTSTART;TZID=America/New_York:20251010T160000
DTEND;TZID=America/New_York:20251010T190000
DTSTAMP:20260421T115815
CREATED:20250926T205907Z
LAST-MODIFIED:20250926T211128Z
UID:28284-1760112000-1760122800@www.blueridgeheritage.com
SUMMARY:Old Fort Art Walk
DESCRIPTION:Come join in the celebration as Old Fort kicks off their first-ever Art Walk!\nArrowhead Gallery & Studios is the starting and end point for the Art Walk\, from there walkers will continue on to various locations in town to view art\, socialize and see demonstrations.\nPlay ART BINGO and enter to win gift baskets\, or gift certificate for Art Dollars by playing. Pick up an Art BINGO card at Arrowhead Gallery & Studios and have the card signed at each business visited. End the walk back at Arrowhead Gallery to turn your card to register for prizes.\nLight snacks\, drinks and art demonstrations will be happening 4pm – 7 pm October 10\, 2025\nParticipating Businesses:\nNanu Gallery\, Destination McDowell\, Puurfectly Pampered\nPets\, Gateway Museum\, Old Fancy\, Euda Winery\, Common\nPine\, Waterways Kayak\, and Catawba Vale\nArrowhead Gallery & Studios
URL:https://www.blueridgeheritage.com/event/old-fort-art-walk/
LOCATION:Downtown Old Fort\, 38 S Catawba Ave.\, Old Fort\, NC\, 28762\, United States
CATEGORIES:Art
ATTACH;FMTTYPE=image/jpeg:https://www.blueridgeheritage.com/wp-content/uploads/2025/09/artwalk-oldfort.jpg
END:VEVENT
BEGIN:VEVENT
DTSTART;TZID=America/New_York:20251011T110000
DTEND;TZID=America/New_York:20251011T170000
DTSTAMP:20260421T115815
CREATED:20251002T161226Z
LAST-MODIFIED:20251002T161226Z
UID:28568-1760180400-1760202000@www.blueridgeheritage.com
SUMMARY:Open Studio Tour - Transylvania County
DESCRIPTION:We invite you to join us for the Open Studio Tour in Transylvania County. The Tour is self-guided\, and maps will be available in the Open Studio Brochure which will be available at the Visitors Center at 175 E. Main Street\, Brevard\, NC. Maps will also be online on the Transylvanaartguild.com website. Use the QR Code on this notice to see the entire brochure online. Our community of artists creates in a variety of mediums\, including painting\, watercolor\, pastels\, iron work\, leather\, printing\, chain saw wood sculptures\, pottery\, stained glass and jewelry. We welcome you to our open studios and community hubs so that you can enjoy our work. Come to Brevard and see for yourself! Please check the Transylvaniaartguild.com website for updates as we add artist images and sponsors for 2025. \n  \nGet your map here: https://transylvaniaartguild.com/artist-studio-tour-2025
URL:https://www.blueridgeheritage.com/event/open-studio-tour-transylvania-county/
LOCATION:Downtown Brevard\, Brevard\, NC\, 28712\, United States
CATEGORIES:Art,Arts & Crafts,Studio Tour
ATTACH;FMTTYPE=image/jpeg:https://www.blueridgeheritage.com/wp-content/uploads/2025/10/brevard-studiotour.jpg
END:VEVENT
BEGIN:VEVENT
DTSTART;TZID=America/New_York:20251011T180000
DTEND;TZID=America/New_York:20251011T210000
DTSTAMP:20260421T115815
CREATED:20250905T195500Z
LAST-MODIFIED:20250905T195500Z
UID:27921-1760205600-1760216400@www.blueridgeheritage.com
SUMMARY:Night for the Arts
DESCRIPTION:Join us for a “Special Saturday In Sparta”\, an elegant evening celebrating creativity\, community\, and culinary delight at 27 on Main (the former Spartan Theater and Alleghany Jubilee). \n\n\n\n\n\n\nEnjoy a sneak peek at this beautifully transformed landmark while savoring a gourmet dinner catered by Chef Stevie Harrington of Little Seed Cafe. Your ticket includes dinner and two complimentary drinks. Evening dress is requested\, and there will be both silent and live auctions. \nTickets and details available here.
URL:https://www.blueridgeheritage.com/event/night-for-the-arts/
LOCATION:27 on Main\, 25 North Main Street\, Sparta\, NC\, 28675\, United States
CATEGORIES:Art,Food & Beverage
ATTACH;FMTTYPE=image/png:https://www.blueridgeheritage.com/wp-content/uploads/2025/09/NighfortheArts.png
END:VEVENT
END:VCALENDAR